BEGIN:VCALENDAR
VERSION:2.0
PRODID:-//Tukios.com/
BEGIN:VEVENT
UID:11533fae-a303-495f-b6ea-3dec3c145c22@www.tiddfuneralservice.com
DTSTAMP:20260420T082011Z
DTSTART:20260425T180000Z
DTEND:20260425T190000Z
SUMMARY:Funeral Service
DESCRIPTION:
URL:https://www.tiddfuneralservice.com/obituaries/linda-bundy
LOCATION:Tidd Family Funeral Home 5265 Norwich Street  Hilliard OH 43026
GEO:40.0339142;-83.1581478
END:VEVENT
END:VCALENDAR