BEGIN:VCALENDAR
VERSION:2.0
PRODID:-//Tukios.com/
BEGIN:VEVENT
UID:5a13a89f-8369-4671-8cf2-0446f3056e42@www.tiddfuneralservice.com
DTSTAMP:20260421T232344Z
DTSTART:20260426T160000Z
DTEND:20260426T190000Z
SUMMARY:Celebration of Life
DESCRIPTION:
URL:https://www.tiddfuneralservice.com/obituaries/edward-huschart
LOCATION:The Goat 5730 Silver Falls Street  Dublin OH 43016
GEO:40.0620313;-83.1734065
END:VEVENT
END:VCALENDAR