BEGIN:VCALENDAR
VERSION:2.0
PRODID:-//Tukios.com/
BEGIN:VEVENT
UID:16e7d0f0-77f7-416a-88f6-3488370ce300@www.tiddfuneralservice.com
DTSTAMP:20260419T203512Z
DTSTART:20260429T140000Z
DTEND:20260429T150000Z
SUMMARY:Graveside Service
DESCRIPTION:
URL:https://www.tiddfuneralservice.com/obituaries/darlene-davis
LOCATION:Alton Cemetery 275 Alton Darby Creek Rd  Galloway OH 43119
GEO:39.9564651;-83.167329
END:VEVENT
END:VCALENDAR