BEGIN:VCALENDAR
VERSION:2.0
PRODID:-//Tukios.com/
BEGIN:VEVENT
UID:7369f670-642e-4f12-bcba-d42449b11065@www.tiddfuneralservice.com
DTSTAMP:20260422T200020Z
DTSTART:20260515T210000Z
DTEND:20260516T000000Z
SUMMARY:Celebration of Life
DESCRIPTION:
URL:https://www.tiddfuneralservice.com/obituaries/brooke-farthing
LOCATION:Crooked Can Brewing Co. 5354 Center Street  Hilliard OH 43026
GEO:40.0347009;-83.1602832
END:VEVENT
END:VCALENDAR