BEGIN:VCALENDAR
VERSION:2.0
PRODID:-//Tukios.com/
BEGIN:VEVENT
UID:2ca736a5-b742-4771-acb9-f06ee1e9c2cd@www.tiddfuneralservice.com
DTSTAMP:20260421T232515Z
DTSTART:20260508T203000Z
DTEND:20260508T213000Z
SUMMARY:Celebration of Life
DESCRIPTION:
URL:https://www.tiddfuneralservice.com/obituaries/barbara-bobbie-young
LOCATION:Tidd Family Funeral Home 5265 Norwich Street  Hilliard OH 43026
GEO:40.0339142;-83.1581478
END:VEVENT
END:VCALENDAR