BEGIN:VCALENDAR
VERSION:2.0
PRODID:-//Tukios.com/
BEGIN:VEVENT
UID:102b4423-4a89-4b68-85db-c6086b8f837b@www.tiddfuneralservice.com
DTSTAMP:20260421T232927Z
DTSTART:20260508T190000Z
DTEND:20260508T203000Z
SUMMARY:Visitation
DESCRIPTION:
URL:https://www.tiddfuneralservice.com/obituaries/barbara-bobbie-young
LOCATION:Tidd Family Funeral Home 5265 Norwich Street  Hilliard OH 43026
GEO:40.0339142;-83.1581478
END:VEVENT
END:VCALENDAR