BEGIN:VCALENDAR
VERSION:2.0
PRODID:-//Tukios.com/
BEGIN:VEVENT
UID:3b423da1-f7c5-429e-ad4f-e801aaafc295@www.tiddfuneralservice.com
DTSTAMP:20260420T165206Z
DTSTART:20260523T160000Z
DTEND:20260523T170000Z
SUMMARY:Memorial Service
DESCRIPTION:
URL:https://www.tiddfuneralservice.com/obituaries/andrew-starinchak
LOCATION: 81 W Bridge St  Dublin OH 43017
GEO:40.0986599;-83.1158895
END:VEVENT
END:VCALENDAR